{"text_format":"1","workbook":"xlsx","n_sheets":7,"sheets":["БЖ","БЖ обратная сторона","Доп к БЖ","Доп к БЖ-2","Архив маршрутов","Справочники","Настройки"],"not_rendered":{"charts":0,"images":1,"macros":1,"external_links":0,"defined_names":6,"comments":0,"pivot_tables":0},"unopened":[],"bounds":{"document_bytes":16777216,"sheet_cells":100000,"rows_first":2000,"rows_last":500,"rows_between":2000,"halvings":0,"cell_chars":16384,"cell_head_chars":4096},"cells_cut":0,"cells_raw":0,"read":"whole","date_system":"1900"}

{"sheet":"БЖ","index":0,"n_rows":45,"n_cols":47,"rows_kept":45,"cut":false,"hidden":false,"merged":[[34,17,34,37],[34,0,34,6],[38,0,38,2],[36,13,36,14],[37,13,37,14],[38,13,38,14],[35,8,35,12],[29,27,29,28],[35,0,35,2],[30,17,30,18],[30,19,30,20],[30,21,30,22],[30,23,30,24],[30,25,30,26],[29,21,29,22],[29,23,29,24],[29,25,29,26],[31,15,31,16],[31,17,31,18],[32,10,32,11],[32,13,32,14],[32,15,32,16],[32,17,32,18],[32,21,32,22],[39,0,39,2],[39,13,39,14],[39,8,39,12],[37,8,37,12],[36,0,36,2],[37,0,37,2],[34,8,34,14],[35,13,35,14],[38,8,38,12],[19,23,20,24],[27,0,27,37],[11,21,12,22],[15,17,16,18],[20,10,20,11],[17,15,18,16],[15,12,16,14],[19,15,20,16],[17,12,18,14],[22,10,22,11],[13,27,14,28],[17,27,18,28],[15,27,16,28],[15,10,15,11],[16,10,16,11],[19,12,20,14],[11,25,12,26],[21,21,22,23],[21,12,22,20],[17,17,18,18],[11,29,11,37],[11,27,12,28],[12,29,12,37],[11,23,12,24],[32,23,32,24],[32,25,32,26],[32,27,32,28],[30,27,30,28],[28,0,28,37],[29,17,29,18],[29,19,29,20],[31,19,31,20],[31,27,31,28],[31,21,31,22],[31,23,31,24],[2,26,2,28],[2,29,2,30],[9,21,9,22],[8,12,8,28],[9,6,10,6],[9,7,10,7],[9,8,10,8],[9,9,10,9],[10,15,10,16],[3,19,3,24],[9,23,9,24],[10,27,10,28],[9,25,9,26],[6,8,6,12],[6,30,6,34],[3,14,3,16],[3,25,3,31],[12,10,12,11],[13,10,13,11],[14,10,14,11],[11,10,11,11],[13,17,14,18],[12,15,12,16],[11,15,11,18],[9,5,10,5],[9,0,10,0],[19,17,20,18],[15,19,16,20],[19,19,20,20],[30,15,30,16],[25,12,25,18],[11,12,12,14],[13,15,14,16],[13,12,14,14],[15,15,16,16],[13,25,14,26],[11,19,12,20],[13,19,14,20],[12,17,12,18],[15,25,16,26],[17,25,18,26],[13,21,14,22],[15,21,16,22],[17,21,18,22],[13,23,14,24],[15,23,16,24],[17,23,18,24],[19,21,20,22],[17,19,18,20],[21,10,21,11],[19,25,20,26],[25,10,25,11],[26,10,26,11],[32,35,32,37],[36,8,36,12],[23,12,24,28],[19,27,20,28],[21,24,22,28],[29,35,31,37],[29,10,29,11],[29,13,29,14],[29,15,29,16],[30,10,30,11],[30,13,30,14],[31,10,31,11],[31,13,31,14],[24,29,24,37],[25,29,25,37],[26,29,26,37],[32,19,32,20],[31,25,31,26],[0,0,0,37],[9,10,10,11],[8,0,8,11],[9,1,10,1],[9,2,10,2],[9,4,10,4],[9,27,9,28],[9,3,10,3],[8,29,8,37],[10,25,10,26],[10,23,10,24],[10,21,10,22],[1,0,1,4],[3,0,3,4],[4,0,4,4],[3,10,3,12],[4,10,4,12],[2,0,2,4],[2,6,2,8],[10,17,10,18],[10,19,10,20],[9,12,9,20],[6,13,6,23],[2,19,2,25],[44,34,44,37],[41,34,41,37],[40,0,40,33],[13,29,13,37],[14,29,14,37],[15,29,15,37],[16,29,16,37],[17,10,17,11],[18,10,18,11],[21,29,21,37],[22,29,22,37],[23,29,23,37],[17,29,17,37],[18,29,18,37],[19,29,19,37],[20,29,20,37],[35,17,35,37],[36,17,36,37],[37,17,37,37],[38,17,38,37],[39,17,39,37],[23,10,23,11],[24,10,24,11],[19,10,19,11]]}
["БОРТОВОЙ ЖУРНАЛ ЛЕТЧИКА-НАБЛЮДАТЕЛЯ"]
["Владимирская"]
["база авиационной охраны лесов",null,null,null,null,null,"2019-10-05",null,null,null,null,null,null,null,null,null,null,null,null,"к заявке на полет №",null,null,null,null,null,null,62,null,null,null,null,null,"Очередной № пожара",null,null,null,100,null,1,1,1,1,1,2,5,5,1]
["Владимирское",null,null,null,null,null,"Самолет (вертолет)",null,null,null,"Ан-2",null,null,"№","02525",null,null,null,null,"Командир ВС",null,null,null,null,null,"Петров И.П.",null,null,null,null,null,null,"Очередн. № донесения",null,null,null,1]
["авиационное отделение",null,null,null,null,null,null,null,null,null,null,null,null,null,null,null,null,null,null,null,null,null,null,null,null,null,null,null,null,null,null,null,"КПО",3]
[]
[null,null,null,null,null,null,null,null,"Летчик-наблюдатель",null,null,null,null,"Иванов И.А.",null,null,null,null,null,null,null,null,null,null,null,"Проверяющий",null,null,null,null,"Сидоров И.И."]
[]
["Предварительный расчет полета",null,null,null,null,null,null,null,null,null,null,null,"Необходимый запас ГСМ с учетом",null,null,null,null,null,null,null,null,null,null,null,null,null,null,null,null,"План работы"]
["Маршрут","МПУ","УС","УВ","МК","Vпр.","W","S, км","tП","Hрел.","Hбез пр.",null,"навигационного запаса на",null,null,null,null,null,null,null,null,{"$f":"HOUR(I27+Настройки!E2)","v":1},null,"час.",null,{"$f":"MINUTE((I27+Настройки!E2))","v":59},null,"мин.",null,"Авиационное патрулирование лесов"]
[null,null,null,null,null,null,null,null,null,null,null,null,null,"Нрас.",null,"500",null,"м;  δн",null,60,null,";     U",null,18,null,"км/ч",null,null,null,"с целью обнаружения и тушения лесных пожаров"]
["Владимир",262,{"$f":"IF(F12>0,ROUND((180/PI()*ASIN(U/F12*SIN(D12*PI()/180))),1),0)","v":2.1},{"$f":"IF((бн-B12)>180,-(360-(бн-B12)),IF((бн-B12)<-180,360+(бн-B12),бн-B12))","v":158},{"$f":"ROUND(IF((B12-C12)>360,B12-C12-360,IF((B12-C12)<0,B12-C12+360,B12-C12)),0)","v":260},180,{"$f":"IF(B12>0,ROUND(F12*COS((C12*PI()/180))+U*COS(D12*PI()/180),0),0)","v":163},17,{"$f":"IF(AND(H12>0,F12>0),TIME(ROUND(H12/G12,0),ROUND(H12/G12*60-ROUND(H12/G12,0)*60,0),0),0)","v":"00:06:00"},168,{"$f":"IF(J12<>0,ROUND(Настройки!$E$3+J12-($T$14-15)/300*(Настройки!$E$3+J12),0),0)","v":267},null,"Пункты",null,null,"Солнце",null,null,null,"Темп.",null,"P",null,"Нм",null,"δ",null,"U"]
["Ставрово",288,{"$f":"IF(F13>0,ROUND((180/PI()*ASIN(U/F13*SIN(D13*PI()/180))),1),0)","v":4.3},132,{"$f":"ROUND(IF((B13-C13)>360,B13-C13-360,IF((B13-C13)<0,B13-C13+360,B13-C13)),0)","v":284},180,167,45,{"$f":"IF(AND(H13>0,F13>0),TIME(ROUND(H13/G13,0),ROUND(H13/G13*60-ROUND(H13/G13,0)*60,0),0),0)","v":"00:16:00"},213,{"$f":"IF(J13<>0,ROUND(Настройки!$E$3+J13-($T$14-15)/300*(Настройки!$E$3+J13),0),0)","v":312},null,null,null,null,"восх.",null,"зах.",null,null,null,null,null,null,null,null,null,null,null,null,null,null,null,null,null,null,null,null," "]
["Кольчугино",233,{"$f":"IF(F14>0,ROUND((180/PI()*ASIN(U/F14*SIN(D14*PI()/180))),1),0)","v":-0.7},-173,234,180,162,37,"00:14:00",216,{"$f":"IF(J14<>0,ROUND(Настройки!$E$3+J14-($T$14-15)/300*(Настройки!$E$3+J14),0),0)","v":315},null,"Владимир",null,null,"06:39:00",null,"17:58:00",null,16,null,"756",null,"164",null,"210",null,"3"]
["Киржач",133,{"$f":"IF(F15>0,ROUND((180/PI()*ASIN(U/F15*SIN(D15*PI()/180))),1),0)","v":-5.5},-73,139,180,184,33,"00:11:00",149,{"$f":"IF(J15<>0,ROUND(Настройки!$E$3+J15-($T$14-15)/300*(Настройки!$E$3+J15),0),0)","v":248}]
["Покров",64,{"$f":"IF(F16>0,ROUND((180/PI()*ASIN(U/F16*SIN(D16*PI()/180))),1),0)","v":-0.4},-4,64,180,198,62,"00:19:00",159,{"$f":"IF(J16<>0,ROUND(Настройки!$E$3+J16-($T$14-15)/300*(Настройки!$E$3+J16),0),0)","v":258}]
["Собинка",40,{"$f":"IF(F17>0,ROUND((180/PI()*ASIN(U/F17*SIN(D17*PI()/180))),1),0)","v":2},20,38,180,197,25,"00:08:00",168,{"$f":"IF(J17<>0,ROUND(Настройки!$E$3+J17-($T$14-15)/300*(Настройки!$E$3+J17),0),0)","v":267}]
["Владимир",0,{"$f":"IF(F18>0,ROUND((180/PI()*ASIN(U/F18*SIN(D18*PI()/180))),1),0)","v":0},60,0,null,0,0,"00:00:00",0,{"$f":"IF(J18<>0,ROUND(Настройки!$E$3+J18-($T$14-15)/300*(Настройки!$E$3+J18),0),0)","v":0}]
[0,0,{"$f":"IF(F19>0,ROUND((180/PI()*ASIN(U/F19*SIN(D19*PI()/180))),1),0)","v":0},60,0,null,0,0,"00:00:00",0,{"$f":"IF(J19<>0,ROUND(Настройки!$E$3+J19-($T$14-15)/300*(Настройки!$E$3+J19),0),0)","v":0}]
[0,0,{"$f":"IF(F20>0,ROUND((180/PI()*ASIN(U/F20*SIN(D20*PI()/180))),1),0)","v":0},60,0,null,0,0,"00:00:00",0,{"$f":"IF(J20<>0,ROUND(Настройки!$E$3+J20-($T$14-15)/300*(Настройки!$E$3+J20),0),0)","v":0}]
[0,0,{"$f":"IF(F21>0,ROUND((180/PI()*ASIN(U/F21*SIN(D21*PI()/180))),1),0)","v":0},60,0,null,0,0,"00:00:00",0,{"$f":"IF(J21<>0,ROUND(Настройки!$E$3+J21-($T$14-15)/300*(Настройки!$E$3+J21),0),0)","v":0}]
[0,0,{"$f":"IF(F22>0,ROUND((180/PI()*ASIN(U/F22*SIN(D22*PI()/180))),1),0)","v":0},60,0,null,0,0,"00:00:00",0,{"$f":"IF(J22<>0,ROUND(Настройки!$E$3+J22-($T$14-15)/300*(Настройки!$E$3+J22),0),0)","v":0},null,"Pмин. прив. по маршруту",null,null,null,null,null,null,null,null,"771",null,null,"мм рт.ст."]
[0,0,{"$f":"IF(F23>0,ROUND((180/PI()*ASIN(U/F23*SIN(D23*PI()/180))),1),0)","v":0},60,0,null,0,0,"00:00:00",0,{"$f":"IF(J23<>0,ROUND(Настройки!$E$3+J23-($T$14-15)/300*(Настройки!$E$3+J23),0),0)","v":0}]
[0,0,{"$f":"IF(F24>0,ROUND((180/PI()*ASIN(U/F24*SIN(D24*PI()/180))),1),0)","v":0},60,0,null,0,0,"00:00:00",0,{"$f":"IF(J24<>0,ROUND(Настройки!$E$3+J24-($T$14-15)/300*(Настройки!$E$3+J24),0),0)","v":0},null,"Предполетную подготовку проверил:"]
[0,0,{"$f":"IF(F25>0,ROUND((180/PI()*ASIN(U/F25*SIN(D25*PI()/180))),1),0)","v":0},60,0,null,0,0,"00:00:00",0,{"$f":"IF(J25<>0,ROUND(Настройки!$E$3+J25-($T$14-15)/300*(Настройки!$E$3+J25),0),0)","v":0}]
[0,0,{"$f":"IF(F26>0,ROUND((180/PI()*ASIN(U/F26*SIN(D26*PI()/180))),1),0)","v":0},60,0,null,0,0,"00:00:00",0,{"$f":"IF(J26<>0,ROUND(Настройки!$E$3+J26-($T$14-15)/300*(Настройки!$E$3+J26),0),0)","v":0},null,"2019-09-12",null,null,null,null,null,null,"Подпись "]
[null,null,{"$f":"IF(F27>0,ROUND((180/PI()*ASIN(U/F27*SIN(D27*PI()/180))),1),0)","v":0},null,null,null,null,{"$f":"SUM(H12:H26)","v":219},{"$f":"SUM(I12:I26)","v":"01:14:00"}]
["ОТЧЁТ О ВЫПОЛНЕНИИ ПОЛЁТА"]
["Распределение налета на тушение по пожарам"]
["Код авиаотделения",null,null,null,null,null,null,null,null,null,null,null,null,null,null,null,null,null,null,null,null,null,null,null,null,null,null,null,null,null,null,null,null,null,null,"ИТОГО на тушение лесных пожаров"]
["№ пожара",null,{"$f":"'БЖ обратная сторона'!E25","v":"100"},null,{"$f":"'БЖ обратная сторона'!F25","v":0},{"$f":"'БЖ обратная сторона'!G25","v":0},{"$f":"'БЖ обратная сторона'!H25","v":0},{"$f":"'БЖ обратная сторона'!I25","v":0},{"$f":"'БЖ обратная сторона'!J25","v":0},{"$f":"'БЖ обратная сторона'!L25","v":0},{"$f":"'БЖ обратная сторона'!N25","v":0},null,{"$f":"'БЖ обратная сторона'!O25","v":0},{"$f":"'БЖ обратная сторона'!Q25","v":0},null,{"$f":"'БЖ обратная сторона'!R25","v":0},null,{"$f":"'БЖ обратная сторона'!T25","v":0},null,{"$f":"'БЖ обратная сторона'!U25","v":0},null,{"$f":"'БЖ обратная сторона'!W25","v":0},null,{"$f":"'БЖ обратная сторона'!Y25","v":0},null,{"$f":"'БЖ обратная сторона'!AD25","v":0}]
["Ведомство",null,{"$f":"'БЖ обратная сторона'!E33","v":"ФАЛХ"},null,{"$f":"'БЖ обратная сторона'!F33","v":0},{"$f":"'БЖ обратная сторона'!G33","v":0},{"$f":"'БЖ обратная сторона'!H33","v":0},{"$f":"'БЖ обратная сторона'!I33","v":0},{"$f":"'БЖ обратная сторона'!J33","v":0},{"$f":"'БЖ обратная сторона'!L33","v":0},{"$f":"'БЖ обратная сторона'!N33","v":0},null,{"$f":"'БЖ обратная сторона'!O33","v":0},{"$f":"'БЖ обратная сторона'!Q33","v":0},null,{"$f":"'БЖ обратная сторона'!R33","v":0},null,{"$f":"'БЖ обратная сторона'!T33","v":0},null,{"$f":"'БЖ обратная сторона'!U33","v":0},null,{"$f":"'БЖ обратная сторона'!W33","v":0},null,{"$f":"'БЖ обратная сторона'!Y33","v":0},null,{"$f":"'БЖ обратная сторона'!AD26","v":0}]
["Налёт час.мин.",null,{"$f":"'БЖ обратная сторона'!E27","v":"00:20:00"},null,{"$f":"'БЖ обратная сторона'!F27","v":"00:00:00"},{"$f":"'БЖ обратная сторона'!G27","v":"00:00:00"},{"$f":"'БЖ обратная сторона'!H27","v":"00:00:00"},{"$f":"'БЖ обратная сторона'!I27","v":"00:00:00"},{"$f":"'БЖ обратная сторона'!J27","v":"00:00:00"},{"$f":"'БЖ обратная сторона'!L27","v":"00:00:00"},{"$f":"'БЖ обратная сторона'!N27","v":"00:00:00"},null,{"$f":"'БЖ обратная сторона'!O27","v":"00:00:00"},{"$f":"'БЖ обратная сторона'!Q27","v":"00:00:00"},null,{"$f":"'БЖ обратная сторона'!R27","v":"00:00:00"},null,{"$f":"'БЖ обратная сторона'!T27","v":"00:00:00"},null,{"$f":"'БЖ обратная сторона'!U27","v":"00:00:00"},null,{"$f":"'БЖ обратная сторона'!W27","v":"00:00:00"},null,{"$f":"'БЖ обратная сторона'!Y27","v":"00:00:00"},null,{"$f":"'БЖ обратная сторона'!AD27","v":"00:00:00"},null,null,null,null,null,null,null,null,null,{"$f":"TIME(ROUNDDOWN(AJ34/60,0),AJ34-ROUNDDOWN(AJ34/60,0)*60,0)","v":"00:20:00"}]
["Налёт, мин.",null,{"$f":"MINUTE(C33)+HOUR(C33)*60","v":20},null,{"$f":"MINUTE(E33)+HOUR(E33)*60","v":0},0,0,0,0,0,0,null,{"$f":"MINUTE(M33)+HOUR(M33)*60","v":0},{"$f":"MINUTE(L33)+HOUR(L33)*60","v":0},null,{"$f":"MINUTE(N33)+HOUR(N33)*60","v":0},null,{"$f":"MINUTE(P33)+HOUR(P33)*60","v":0},null,{"$f":"MINUTE(R33)+HOUR(R33)*60","v":0},null,{"$f":"MINUTE(T33)+HOUR(T33)*60","v":0},null,{"$f":"MINUTE(V33)+HOUR(V33)*60","v":0},null,{"$f":"MINUTE(X33)+HOUR(X33)*60","v":0},null,{"$f":"MINUTE(Z33)+HOUR(Z33)*60","v":0},null,{"$f":"MINUTE(AB33)+HOUR(AB33)*60","v":0},0,0,0,0,0,{"$f":"SUM(C34:AI34)","v":20}]
["Личный налёт по группам",null,null,null,null,null,null,null,"Налёт по видам работ",null,null,null,null,null,null,null,null,"Дополнительная информация"]
["ФИО",null,null,null,null,null,null,null,"Вид работ",null,null,null,null,"Налёт"]
[{"$f":"N7","v":"Иванов И.А."},null,null,null,"01:25:00",null,null,null,{"$f":"OFFSET(Справочники!F1,AQ3,0)","v":"Тушение"},null,null,null,null,{"$f":"AJ33","v":"00:20:00"}]
[{"$f":"AE7","v":"Сидоров И.И."},null,null,null,"01:25:00",null,null,null,{"$f":"OFFSET(Справочники!F1,AR3,0)","v":"Патрулирование"},null,null,null,null,{"$f":"'БЖ обратная сторона'!AF29","v":"01:05:00"}]
[null,null,null,null,null,null,null,null,{"$f":"'БЖ обратная сторона'!B31","v":"Прочее"}]
[null,null,null,null,null,null,null,null,"ИТОГО:",null,null,null,null,{"$f":"TIME(ROUNDDOWN(('БЖ обратная сторона'!AF28+'БЖ обратная сторона'!AF30+'БЖ обратная сторона'!AF32)/60,0),('БЖ обратная сторона'!AF28+'БЖ обратная сторона'!AF30+'БЖ обратная сторона'!AF32)-ROUNDDOWN(('БЖ обратная сторона'!AF28+'БЖ обратная сторона'!AF30+'БЖ обратная сторона'!AF32)/60,0)*60,0)","v":"01:25:00"}]
[]
["Фактическое время полета",null,null,null,null,{"$f":"IF(HOUR(SUM('БЖ обратная сторона'!J7:K23)+SUM('Доп к БЖ'!I10:J35)+SUM('Доп к БЖ-2'!I7:J34))=0,\"0\",HOUR(SUM('БЖ обратная сторона'!J7:K23)+SUM('Доп к БЖ'!I10:J35)+SUM('Доп к БЖ-2'!I7:J34)))","v":1},"час.",{"$f":"IF(MINUTE(SUM('БЖ обратная сторона'!J7:K23)+SUM('Доп к БЖ'!I10:J35)+SUM('Доп к БЖ-2'!I7:J34))=0,\"00\",MINUTE(SUM('БЖ обратная сторона'!J7:K23)+SUM('Доп к БЖ'!I10:J35)+SUM('Доп к БЖ-2'!I7:J34)))","v":25},"мин.",null,null,null,"Подпись, ФИО летчика-наблюдателя",null,null,null,null,null,null,null,null,null,null,null,null,null,null,null,null,null,null,null,null,null,{"$f":"N7","v":"Иванов И.А."}]
["Оценка и основные недостатки в работе летнаба в полете"]
[]
[null,null,null,null,null,null,null,null,null,null,null,null,"Должность, подпись, ФИО проверяющего",null,null,null,null,null,null,null,null,null,null,null,null,null,null,null,null,null,null,null,null,null,{"$f":"AE7","v":"Сидоров И.И."}]

{"sheet":"БЖ обратная сторона","index":1,"n_rows":39,"n_cols":37,"rows_kept":39,"cut":false,"hidden":false,"merged":[[38,34,38,38],[12,9,12,10],[9,11,9,12],[19,11,19,12],[18,9,18,10],[18,11,18,12],[16,9,16,10],[16,11,16,12],[14,9,14,10],[14,11,14,12],[13,9,13,10],[13,11,13,12],[32,20,32,21],[32,22,32,23],[32,32,32,33],[24,34,24,38],[25,36,25,38],[22,9,22,10],[22,11,22,12],[21,9,21,10],[21,11,21,12],[32,9,32,10],[26,34,26,35],[27,11,27,12],[32,11,32,12],[3,24,5,29],[3,30,5,31],[24,0,25,3],[31,9,31,10],[24,8,25,8],[24,9,25,10],[26,9,26,10],[24,16,25,16],[24,17,25,17],[24,18,25,18],[24,19,25,19],[24,6,25,6],[24,31,25,33],[24,13,25,13],[24,20,25,21],[24,22,25,23],[24,7,25,7],[24,11,25,12],[15,11,15,12],[12,11,12,12],[9,9,9,10],[15,9,15,10],[29,9,29,10],[29,11,29,12],[28,9,28,10],[31,11,31,12],[31,34,31,35],[11,9,11,10],[11,11,11,12],[10,9,10,10],[10,11,10,12],[1,17,1,19],[1,20,2,21],[1,22,2,23],[7,11,7,12],[3,13,5,13],[3,14,5,16],[3,17,5,19],[3,20,5,21],[7,9,7,10],[8,9,8,10],[8,11,8,12],[0,0,0,38],[1,34,1,38],[2,34,5,35],[3,22,5,23],[2,36,5,38],[1,30,2,31],[1,32,2,33],[2,17,2,19],[1,24,2,29],[3,32,5,33],[2,3,5,3],[2,14,2,16],[1,14,1,16],[1,6,5,6],[1,7,5,7],[1,2,1,3],[1,4,5,4],[1,5,5,5],[6,0,6,1],[2,2,5,2],[1,8,5,8],[1,9,5,10],[1,11,5,12],[1,13,2,13],[6,9,6,10],[6,11,6,12],[1,0,5,1],[16,0,16,1],[17,0,17,1],[18,0,18,1],[23,0,23,38],[24,4,25,4],[24,5,25,5],[24,14,25,14],[24,24,25,24],[24,29,25,29],[19,0,19,1],[20,0,20,1],[21,0,21,1],[22,0,22,1],[25,34,25,35],[20,9,20,10],[20,11,20,12],[17,11,17,12],[19,9,19,10],[17,9,17,10],[26,31,26,33],[31,31,31,33],[35,0,35,37],[29,31,29,32],[30,1,30,3],[33,0,33,37],[26,11,26,12],[32,0,32,3],[26,0,31,0],[30,9,30,10],[30,11,30,12],[27,31,27,32],[28,34,28,35],[34,34,34,38],[26,1,26,3],[28,1,28,3],[28,31,28,33],[30,31,30,33],[26,36,26,37],[28,11,28,12],[30,34,30,35],[28,36,28,37],[30,36,30,37],[27,9,27,10],[7,0,7,1],[8,0,8,1],[9,0,9,1],[10,0,10,1],[11,0,11,1],[12,0,12,1],[13,0,13,1],[14,0,14,1],[15,0,15,1]]}
["ВЫПОЛНЕНИЕ ПОЛЕТА"]
["Маршрут",null,"время",null,"МК","H","Vпр.","УС","S, км","tП",null,"W",null,"а)","РНТ",null,null,"время",null,null,"МК",null,"КУР",null,"МПР",null,null,null,null,null,"МПС",null,"МС",null,"Для заметок"]
[null,null,"расч.","факт.",null,null,null,null,null,null,null,null,null,null," (место)",null,null,"пеленг.",null,null,null,null,null,null,null,null,null,null,null,null,null,null,null,null,"состояние пожара",null,"характкрис-тика принятых мер"]
[null,null,null,null,null,null,null,null,null,null,null,null,null,"б) № пож.","лесничество",null,null,"участвковое  лесничество",null,null,"№ квар-тала",null,"район",null,"состав, полнота, возраст",null,null,null,null,null,"площ., га",null,"катего-рия причин"]
[]
[]
["взлет",null,null,"14:00:00",197,null,null,null,null,{"$f":"IF(AND((D8-D7)>0,A7<>\"Посадка\"),D8-D7,0)","v":"00:01:00"},null,{"$f":"IF(AND(J7>0,D7>0,NOT(ISNUMBER(SEARCH(\"Сход\",N8)))),ROUND(I7/(HOUR(J7)+MINUTE(J7)/60),0),0)","v":0},null,"Ясно Видимость более 10 км"]
["отход",null,null,"14:01:00",260,200,170,2,17,"00:06:00",null,170,null,"р/д Забойка \"Взлет\""]
["Ставрово",null,"14:07:00","14:07:00",284,800,180,4,45,"00:16:00",null,169,null,"р/д Забойка 1 \"Пожаров нет\""]
["Кольчугино",null,"14:23:00","14:23:00",234,800,180,-1,37,"00:08:00",null,0,null,"р/д Забойка 2 \"Пожаров нет\""]
["      Бельцы",null,null,"14:31:00",300,800,180,null,null,"00:04:00",null,0,null,"Сход на дым"]
["      Слободка",null,null,"14:35:00",null,600,180,null,null,"00:03:00",null,{"$f":"IF(AND(J12>0,D12>0,NOT(ISNUMBER(SEARCH(\"Сход\",N14)))),ROUND(I12/(HOUR(J12)+MINUTE(J12)/60),0),0)","v":0},null,100,"Кольчугинское",null,"Киржачское","Кипреевское",null,"Кипреевское",36,null,"н",null,"6С4Е, 0,7, присп",null,null,null,null,null,0.2,null,"н/у",null,"низ. слаб.",null,"Требуется 6 чел., 1 Пм."]
["Пожар №100",null,null,"14:38:00",null,600,180,null,null,"00:02:00",null,{"$f":"IF(AND(J13>0,D13>0,NOT(ISNUMBER(SEARCH(\"Сход\",N15)))),ROUND(I13/(HOUR(J13)+MINUTE(J13)/60),0),0)","v":0},null,"Севернее н.п. Слободка 3 км "]
["отход",null,null,"14:40:00",190,600,180,null,null,"00:04:00",null,0,null,"р/д Забойка 3 \"Сообщение о пожаре №100\""]
["Киржач",null,null,"14:44:00",139,600,180,-5,33,"00:11:00",null,180]
["Покров",null,"14:55:00","14:55:00",64,600,180,1,62,{"$f":"IF(AND((D17-D16)>0,A16<>\"Посадка\"),D17-D16,0)","v":"00:20:00"},null,186,null,"р/д Забойка 4 \"Пожаров нет\""]
["Собинка",null,"15:14:00","15:15:00",38,600,180,2,25,"00:08:00",null,188,null,"р/д Забойка 5\"Пожаров нет\""]
["Владимир",null,"15:23:00","15:23:00",null,200,170,null,null,"00:02:00",null,0,null,"р/д Забойка \"Посадка\""]
["посадка",null,null,"15:25:00",197,null,null,null,null,"00:00:00",null,0,null,"конец работы"]
[null,null,null,null,null,null,null,null,null,"00:00:00",null,0]
[null,null,null,null,null,null,null,null,null,"00:00:00",null,0]
[null,null,null,null,null,null,null,null,null,"00:00:00",null,0]
[null,null,null,null,null,null,null,null,null,"00:00:00",null,0]
["РАСПРЕДЕЛЕНИЕ НАЛЕТА ПО ВИДАМ РАБОТ И ВЕДОМСТВАМ"]
["№ пожаров",null,null,null,"100",null,null,null,null,null,null,null,null,null,null,null,null,null,null,null,null,null,null,null,null,null,null,null,null,null,null,"Итого налет",null,null,"в т.ч."]
[null,null,null,null,null,null,null,null,null,null,null,null,null,null,null,null,null,null,null,null,null,null,null,null,null,null,null,null,null,null,null,null,null,null,{"$f":"Справочники!G2","v":"ФАЛХ"},null,{"$f":"Справочники!G3","v":"ООПТ"}]
["Вид работ",{"$f":"Справочники!F2","v":"Тушение"},null,null,"00:20:00",null,null,null,null,null,null,null,null,null,null,null,null,null,null,null,null,null,null,null,null,null,null,null,null,null,null,{"$f":"TIME(ROUNDDOWN(AF28/60,0),AF28-ROUNDDOWN(AF28/60,0)*60,0)","v":"00:20:00"},null,null,{"$f":"TIME(ROUNDDOWN(AI28/60,0),AI28-ROUNDDOWN(AI28/60,0)*60,0)","v":"00:20:00"},null,{"$f":"TIME(ROUNDDOWN(AK28/60,0),AK28-ROUNDDOWN(AK28/60,0)*60,0)","v":"00:00:00"}]
[null,null,{"$f":"B27","v":"Тушение"},"мин",{"$f":"MINUTE(E27)+HOUR(E27)*60","v":20},{"$f":"MINUTE(F27)+HOUR(F27)*60","v":0},{"$f":"MINUTE(G27)+HOUR(G27)*60","v":0},0,0,0,null,0,null,0,0,0,0,0,0,0,0,0,0,0,0,0,0,0,0,0,null,{"$f":"SUM(E28:AD28)","v":20},null,null,{"$f":"SUMIF($E$33:$AD$33,AI26,E28:AD28)","v":20},null,{"$f":"SUMIF($E$33:$AD$33,AK26,E28:AD28)","v":0}]
[null,"Патрулирование",null,null,"01:05:00",null,null,null,null,null,null,null,null,null,null,null,null,null,null,null,null,null,null,null,null,null,null,null,null,null,null,{"$f":"TIME(ROUNDDOWN(AF30/60,0),AF30-ROUNDDOWN(AF30/60,0)*60,0)","v":"01:05:00"},null,null,{"$f":"TIME(ROUNDDOWN(AI30/60,0),AI30-ROUNDDOWN(AI30/60,0)*60,0)","v":"01:05:00"},null,{"$f":"TIME(ROUNDDOWN(AK30/60,0),AK30-ROUNDDOWN(AK30/60,0)*60,0)","v":"00:00:00"}]
[null,null,{"$f":"B29","v":"Патрулирование"},"мин",{"$f":"MINUTE(E29)+HOUR(E29)*60","v":65},0,0,0,0,0,null,{"$f":"MINUTE(L29)+HOUR(L29)*60","v":0},null,{"$f":"MINUTE(N29)+HOUR(N29)*60","v":0},0,0,0,0,0,0,0,0,0,0,0,0,0,0,0,0,null,{"$f":"SUM(E30:AD30)","v":65},null,null,{"$f":"SUMIF($E$33:$AD$33,AI26,E30:AD30)","v":65},null,{"$f":"SUMIF($E$33:$AD$33,AK26,E30:AD30)","v":0}]
[null,"Прочее",null,null,null,null,null,null,null,null,null,null,null,null,null,null,null,null,null,null,null,null,null,null,null,null,null,null,null,null,null,{"$f":"TIME(ROUNDDOWN(AF32/60,0),AF32-ROUNDDOWN(AF32/60,0)*60,0)","v":"00:00:00"},null,null,{"$f":"TIME(ROUNDDOWN(AI32/60,0),AI32-ROUNDDOWN(AI32/60,0)*60,0)","v":"00:00:00"},null,{"$f":"TIME(ROUNDDOWN(AK32/60,0),AK32-ROUNDDOWN(AK32/60,0)*60,0)","v":"00:00:00"}]
[null,null,{"$f":"B31","v":"Прочее"},"мин",{"$f":"MINUTE(E31)+HOUR(E31)*60","v":0},0,0,0,0,0,null,{"$f":"MINUTE(L31)+HOUR(L31)*60","v":0},null,{"$f":"MINUTE(N31)+HOUR(N31)*60","v":0},0,0,0,0,0,0,0,0,0,0,0,0,0,0,0,0,null,{"$f":"SUM(E32:AD32)","v":0},null,null,{"$f":"SUMIF($E$33:$AD$33,AI26,E32:AD32)","v":0},{"$f":"SUMIF($E$33:$AD$33,AJ28,F32:AE32)","v":0},{"$f":"SUMIF($E$33:$AD$33,AK26,E32:AD32)","v":0}]
["Наименование ведомств",null,null,null,"ФАЛХ"]
[]
["Фактическое время полета",null,null,null,{"$f":"БЖ!F42","v":1},"час.",{"$f":"БЖ!H42","v":25},"мин.",null,null,null,null,null,null,null,null,null,null,null,"Подпись летчика-наблюдателя",null,null,null,null,null,"летчик-наблюдатель",null,null,null,null,null,null,null,null,{"$f":"БЖ!N7","v":"Иванов И.А."}]
[]
["Оценка и основные недостатки в работе летнаба в полете __________________________________________________________________"]
[]
[null,null,null,null,null,null,null,null,null,null,null,null,null,null,null,null,null,"Должность, подпись ФИО, проверяющего",null,null,null,null,null,null,null,null,null,null,null,null,null,null,null,null,{"$f":"БЖ!AE7","v":"Сидоров И.И."}]

{"sheet":"Доп к БЖ","index":2,"n_rows":35,"n_cols":36,"rows_kept":35,"cut":false,"hidden":false,"merged":[[3,0,3,36],[1,13,1,18],[2,13,2,19],[1,32,1,34],[2,32,2,34],[1,0,1,2],[2,0,2,2],[15,8,15,9],[15,10,15,11],[4,0,8,0],[4,1,4,2],[4,3,8,3],[4,4,8,4],[4,5,8,5],[5,1,8,1],[5,2,8,2],[10,8,10,9],[10,10,10,11],[11,8,11,9],[11,10,11,11],[4,6,8,6],[9,10,9,11],[12,8,12,9],[6,29,8,30],[6,31,8,32],[4,29,5,30],[9,37,34,37],[4,7,8,7],[4,8,8,9],[4,10,8,11],[4,12,5,12],[6,12,8,12],[4,21,5,22],[6,13,8,15],[6,16,8,18],[4,33,4,36],[5,35,8,36],[5,33,8,34],[9,8,9,9],[6,19,8,20],[4,23,5,28],[4,13,4,15],[6,21,8,22],[6,23,8,28],[4,31,5,32],[5,13,5,15],[5,16,5,18],[4,16,4,18],[4,19,5,20],[18,10,18,11],[19,8,19,9],[19,10,19,11],[16,8,16,9],[16,10,16,11],[17,8,17,9],[17,10,17,11],[18,8,18,9],[31,8,31,9],[31,10,31,11],[20,8,20,9],[20,10,20,11],[21,8,21,9],[21,10,21,11],[22,8,22,9],[22,10,22,11],[24,8,24,9],[24,10,24,11],[29,8,29,9],[29,10,29,11],[23,8,23,9],[23,10,23,11],[12,10,12,11],[13,8,13,9],[13,10,13,11],[14,8,14,9],[14,10,14,11],[34,8,34,9],[34,10,34,11],[25,8,25,9],[25,10,25,11],[26,8,26,9],[26,10,26,11],[27,8,27,9],[27,10,27,11],[28,8,28,9],[28,10,28,11],[32,8,32,9],[32,10,32,11],[33,8,33,9],[33,10,33,11],[30,8,30,9],[30,10,30,11]]}
[]
[{"$f":"БЖ!A4","v":"Владимирское"},null,null,"       Продолжение № _____ бортжурнала от",null,null,null,null,null,null,null,null,null,{"$f":"БЖ!G3","v":"2019-10-05"},null,null,null,null,null,null,null,null,null,null,null,null,"к заявке  на полёт №",null,null,null,null,null,{"$f":"БЖ!AA3","v":62}]
["авиаотделению",null,null,null,null,null,null,null,null,null,null,null,null,"дата",null,null,null,null,null,null,null,null,null,null,null,null,null,null,null,null,null,null,"номер заявки"]
["ВЫПОЛНЕНИЕ ПОЛЕТА"]
["Маршрут","время",null,"МК","H","Vпр.","УС","S, км","tП",null,"W",null,"а)","РНТ",null,null,"время",null,null,"МК",null,"КУР",null,"МПР",null,null,null,null,null,"МПС",null,"МС",null,"Для заметок"]
[null,"расч.","факт.",null,null,null,null,null,null,null,null,null,null," (место)",null,null,"пеленг.",null,null,null,null,null,null,null,null,null,null,null,null,null,null,null,null,"состояние пожара",null,"характеристика принятых мер"]
[null,null,null,null,null,null,null,null,null,null,null,null,"б) № пож.","лесничество",null,null,"участвковое  лесничество",null,null,"№ квар-тала",null,"район",null,"состав, полнота, возраст",null,null,null,null,null,"площ., га",null,"катего-рия причин"]
[]
[]
[null,null,null,null,null,null,null,null,{"$f":"IF(AND((C11-C10)>0,A10<>\"Посадка\"),C11-C10,0)","v":"00:00:00"},null,{"$f":"IF(AND(I10>0,C10>0),ROUND(H10/(HOUR(I10)+MINUTE(I10)/60),0),0)","v":0}]
[null,null,null,null,null,null,null,null,"00:00:00",null,{"$f":"IF(AND(I11>0,C11>0),ROUND(H11/(HOUR(I11)+MINUTE(I11)/60),0),0)","v":0}]
[null,null,null,null,null,null,null,null,"00:00:00",null,{"$f":"IF(AND(I12>0,C12>0),ROUND(H12/(HOUR(I12)+MINUTE(I12)/60),0),0)","v":0}]
[null,null,null,null,null,null,null,null,"00:00:00",null,0]
[null,null,null,null,null,null,null,null,"00:00:00",null,0]
[null,null,null,null,null,null,null,null,"00:00:00",null,0]
[null,null,null,null,null,null,null,null,"00:00:00",null,0]
[null,null,null,null,null,null,null,null,"00:00:00",null,0]
[null,null,null,null,null,null,null,null,"00:00:00",null,0]
[null,null,null,null,null,null,null,null,"00:00:00",null,0]
[null,null,null,null,null,null,null,null,"00:00:00",null,0]
[null,null,null,null,null,null,null,null,"00:00:00",null,0]
[null,null,null,null,null,null,null,null,"00:00:00",null,0]
[null,null,null,null,null,null,null,null,"00:00:00",null,0]
[null,null,null,null,null,null,null,null,"00:00:00",null,0]
[null,null,null,null,null,null,null,null,"00:00:00",null,0]
[null,null,null,null,null,null,null,null,"00:00:00",null,0]
[null,null,null,null,null,null,null,null,"00:00:00",null,0]
[null,null,null,null,null,null,null,null,"00:00:00",null,0]
[null,null,null,null,null,null,null,null,"00:00:00",null,0]
[null,null,null,null,null,null,null,null,"00:00:00",null,0]
[null,null,null,null,null,null,null,null,"00:00:00",null,0]
[null,null,null,null,null,null,null,null,"00:00:00",null,0]
[null,null,null,null,null,null,null,null,"00:00:00",null,0]
[null,null,null,null,null,null,null,null,"00:00:00",null,0]
[null,null,null,null,null,null,null,null,"00:00:00",null,0]

{"sheet":"Доп к БЖ-2","index":3,"n_rows":34,"n_cols":36,"rows_kept":34,"cut":false,"hidden":false,"merged":[[0,0,0,36],[1,7,5,7],[1,8,5,9],[1,10,5,11],[1,12,2,12],[1,29,2,30],[3,13,5,15],[1,5,5,5],[2,35,5,36],[3,12,5,12],[1,6,5,6],[1,31,2,32],[2,13,2,15],[3,19,5,20],[1,13,1,15],[3,21,5,22],[29,8,29,9],[29,10,29,11],[6,37,33,37],[1,0,5,0],[1,1,1,2],[1,3,5,3],[1,4,5,4],[2,1,5,1],[2,2,5,2],[1,33,1,36],[1,23,2,28],[6,8,6,9],[6,10,6,11],[12,8,12,9],[12,10,12,11],[2,33,5,34],[3,23,5,28],[3,29,5,30],[3,31,5,32],[2,16,2,18],[1,16,1,18],[1,19,2,20],[1,21,2,22],[3,16,5,18],[13,8,13,9],[13,10,13,11],[8,8,8,9],[7,8,7,9],[7,10,7,11],[8,10,8,11],[9,8,9,9],[9,10,9,11],[10,8,10,9],[10,10,10,11],[11,8,11,9],[11,10,11,11],[14,8,14,9],[14,10,14,11],[15,8,15,9],[15,10,15,11],[16,8,16,9],[16,10,16,11],[27,8,27,9],[27,10,27,11],[28,8,28,9],[28,10,28,11],[22,8,22,9],[22,10,22,11],[23,8,23,9],[23,10,23,11],[24,10,24,11],[25,8,25,9],[25,10,25,11],[26,8,26,9],[24,8,24,9],[26,10,26,11],[30,8,30,9],[30,10,30,11],[32,8,32,9],[32,10,32,11],[33,8,33,9],[33,10,33,11],[31,8,31,9],[31,10,31,11],[20,8,20,9],[20,10,20,11],[21,8,21,9],[21,10,21,11],[17,8,17,9],[17,10,17,11],[18,8,18,9],[18,10,18,11],[19,8,19,9],[19,10,19,11]]}
["ВЫПОЛНЕНИЕ ПОЛЕТА"]
["Маршрут","время",null,"МК","H","Vпр.","УС","S, км","tП",null,"W",null,"а)","РНТ",null,null,"время",null,null,"МК",null,"КУР",null,"МПР",null,null,null,null,null,"МПС",null,"МС",null,"Для заметок"]
[null,"расч.","факт.",null,null,null,null,null,null,null,null,null,null," (место)",null,null,"пеленг.",null,null,null,null,null,null,null,null,null,null,null,null,null,null,null,null,"состояние пожара",null,"характеристика принятых мер"]
[null,null,null,null,null,null,null,null,null,null,null,null,"б) № пож.","лесничество",null,null,"участвковое  лесничество",null,null,"№ квар-тала",null,"район",null,"состав, полнота, возраст",null,null,null,null,null,"площ., га",null,"катего-рия причин"]
[]
[]
[null,null,null,null,null,null,null,null,{"$f":"IF(AND((C8-C7)>0,A7<>\"Посадка\"),C8-C7,0)","v":"00:00:00"},null,{"$f":"IF(AND(I7>0,C7>0),ROUND(H7/(HOUR(I7)+MINUTE(I7)/60),0),0)","v":0}]
[null,null,null,null,null,null,null,null,"00:00:00",null,{"$f":"IF(AND(I8>0,C8>0),ROUND(H8/(HOUR(I8)+MINUTE(I8)/60),0),0)","v":0}]
[null,null,null,null,null,null,null,null,"00:00:00",null,0]
[null,null,null,null,null,null,null,null,"00:00:00",null,0]
[null,null,null,null,null,null,null,null,"00:00:00",null,0]
[null,null,null,null,null,null,null,null,"00:00:00",null,0]
[null,null,null,null,null,null,null,null,"00:00:00",null,0]
[null,null,null,null,null,null,null,null,"00:00:00",null,0]
[null,null,null,null,null,null,null,null,"00:00:00",null,0]
[null,null,null,null,null,null,null,null,"00:00:00",null,0]
[null,null,null,null,null,null,null,null,"00:00:00",null,0]
[null,null,null,null,null,null,null,null,"00:00:00",null,0]
[null,null,null,null,null,null,null,null,"00:00:00",null,0]
[null,null,null,null,null,null,null,null,"00:00:00",null,0]
[null,null,null,null,null,null,null,null,"00:00:00",null,0]
[null,null,null,null,null,null,null,null,"00:00:00",null,0]
[null,null,null,null,null,null,null,null,"00:00:00",null,0]
[null,null,null,null,null,null,null,null,"00:00:00",null,0]
[null,null,null,null,null,null,null,null,"00:00:00",null,0]
[null,null,null,null,null,null,null,null,"00:00:00",null,0]
[null,null,null,null,null,null,null,null,"00:00:00",null,0]
[null,null,null,null,null,null,null,null,"00:00:00",null,0]
[null,null,null,null,null,null,null,null,"00:00:00",null,0]
[null,null,null,null,null,null,null,null,"00:00:00",null,0]
[null,null,null,null,null,null,null,null,"00:00:00",null,0]
[null,null,null,null,null,null,null,null,"00:00:00",null,0]
[null,null,null,null,null,null,null,null,"00:00:00",null,0]
[null,null,null,null,null,null,null,null,"00:00:00",null,0]

{"sheet":"Архив маршрутов","index":4,"n_rows":33,"n_cols":44,"rows_kept":33,"cut":false,"hidden":false,"merged":[[3,1,4,1],[2,28,2,31],[3,28,4,28],[3,29,4,29],[3,30,4,30],[3,31,4,31],[2,24,2,27],[3,24,4,24],[3,25,4,25],[2,16,2,19],[3,16,4,16],[3,17,4,17],[3,18,4,18],[3,19,4,19],[3,27,4,27],[2,20,2,23],[3,20,4,20],[3,21,4,21],[3,22,4,22],[3,26,4,26],[3,23,4,23],[3,14,4,14],[3,15,4,15],[2,8,2,11],[3,8,4,8],[3,9,4,9],[3,10,4,10],[3,11,4,11],[3,33,4,33],[3,34,4,34],[3,35,4,35],[2,0,2,3],[1,0,1,3],[2,4,2,7],[3,4,4,4],[3,5,4,5],[3,6,4,6],[3,7,4,7],[3,3,4,3],[3,2,4,2],[3,0,4,0],[2,12,2,15],[3,12,4,12],[3,13,4,13],[21,0,21,3],[22,0,22,3],[23,0,23,3],[24,0,24,3],[2,40,2,43],[3,40,4,40],[3,41,4,41],[3,42,4,42],[3,43,4,43],[2,36,2,39],[3,36,4,36],[3,37,4,37],[3,38,4,38],[3,39,4,39],[2,32,2,35],[3,32,4,32],[29,0,29,3],[30,0,30,3],[31,0,31,3],[25,0,25,3],[26,0,26,3],[27,0,27,3],[28,0,28,3]]}
[]
["Выбранный маршрут"]
[{"$f":"OFFSET(A3,0,A33*4)","v":"Маршрут № 4"},null,null,null,"Маршрут № 1",null,null,null,"Маршрут № 2",null,null,null,"Маршрут № 3",null,null,null,"Маршрут № 4",null,null,null,"Маршрут № 5",null,null,null,"Маршрут № 6",null,null,null,7,null,null,null,8,null,null,null,9,null,null,null,10]
["Маршрут","МПУ","S, км","Hрел.","Маршрут","МПУ","S, км","Hрел.","Маршрут","МПУ","S, км","Hрел.","Маршрут","МПУ","S, км","Hрел.","Маршрут","МПУ","S, км","Hрел.","Маршрут","МПУ","S, км","Hрел.","Маршрут","МПУ","S, км","Hрел.","Маршрут","МПУ","S, км","Hрел.","Маршрут","МПУ","S, км","Hрел.","Маршрут","МПУ","S, км","Hрел.","Маршрут","МПУ","S, км","Hрел."]
[]
[{"$f":"OFFSET(A6,0,$A$33*4)","v":0},0,0,0,"Владимир",220,25,168,"Владимир",262,17,168,"Владимир",262,17,168]
[0,0,0,0,"Собинка",149,37,162,"Ставрово",288,45,213,"Ставрово",288,45,213]
[0,0,0,0,"Уршельский",105,97,162,"Кольчугино",233,37,216,"Кольчугино",233,37,216]
[0,0,0,0,"Меленки",360,62,154,"Киржач",133,33,149,"Киржач",133,33,149]
[0,0,0,0,"КР.Горбатка",38,55,159,"Покров",64,62,159,"Покров",64,62,159]
[0,0,0,0,"Перово",276,72,152,"Собинка",40,25,168,"Собинка",149,37,162]
[0,0,0,0,"Ковров",224,60,131,"Владимир",null,null,null,"Уршельский",105,97,162]
[0,0,0,0,"Бараки",294,17,164,null,null,null,null,"Меленки",360,62,154]
[0,0,0,0,"Владимир",null,null,null,null,null,null,null,"Кр.Горбатка",38,55,159]
[0,0,0,0,null,null,null,null,null,null,null,null,"Перово",276,72,152]
[0,0,0,0,null,null,null,null,null,null,null,null,"Ковров",224,60,131]
[0,0,0,0,null,null,null,null,null,null,null,null,"Бараки",294,17,164]
[0,0,0,0,null,null,null,null,null,null,null,null,"Владимир"]
[0,0,0,0]
[0,0,0,0]
[]
["Список маршрутов"]
[{"$f":"E3","v":"Маршрут № 1"}]
[{"$f":"I3","v":"Маршрут № 2"}]
[{"$f":"M3","v":"Маршрут № 3"}]
[{"$f":"Q3","v":"Маршрут № 4"}]
[{"$f":"U3","v":"Маршрут № 5"}]
[{"$f":"Y3","v":"Маршрут № 6"}]
[{"$f":"AC3","v":7}]
[{"$f":"AG3","v":8}]
[{"$f":"AK3","v":9}]
[{"$f":"AO3","v":10}]
[4]

{"sheet":"Справочники","index":5,"n_rows":5,"n_cols":7,"rows_kept":5,"cut":false,"hidden":false,"merged":[]}
["Список летнабов","Командир ВС","Тип ВС","№ борта","Проверяющий","Вид работ","Ведомство"]
["Иванов И.А.","Петров И.П.","Ан-2","02525","Сидоров И.И.","Тушение","ФАЛХ"]
[null,null,null,null,null,"Патрулирование","ООПТ"]
[null,null,null,null,null,"Тренировка","МО"]
[null,null,null,null,null,"Прочее"]

{"sheet":"Настройки","index":6,"n_rows":6,"n_cols":7,"rows_kept":6,"cut":false,"hidden":false,"merged":[[0,6,0,7]]}
["Настройки",null,null,null,null,null,"Символы"]
["Аэронавигационный запас, ч:мин",null,null,null,"00:45:00",null,"Взлет"]
["Безопасная истинная высота, м",null,null,null,100,null,"Посадка"]
["Широта, градусов (пример, 56.78)",null,null,null,56.13,null,"Траверз"]
["Долгота, градусов (пример, 94.38)",null,null,null,40.32,null,"Коробочка"]
["Часовой пояс",null,null,null,3]